BEGIN:VCALENDAR
VERSION:2.0
PRODID:-//Simpson College - ECPv6.15.18//NONSGML v1.0//EN
CALSCALE:GREGORIAN
METHOD:PUBLISH
X-WR-CALNAME:Simpson College
X-ORIGINAL-URL:https://www.simpson.edu
X-WR-CALDESC:Events for Simpson College
REFRESH-INTERVAL;VALUE=DURATION:PT1H
X-Robots-Tag:noindex
X-PUBLISHED-TTL:PT1H
BEGIN:VTIMEZONE
TZID:America/Chicago
BEGIN:DAYLIGHT
TZOFFSETFROM:-0600
TZOFFSETTO:-0500
TZNAME:CDT
DTSTART:20250309T080000
END:DAYLIGHT
BEGIN:STANDARD
TZOFFSETFROM:-0500
TZOFFSETTO:-0600
TZNAME:CST
DTSTART:20251102T070000
END:STANDARD
BEGIN:DAYLIGHT
TZOFFSETFROM:-0600
TZOFFSETTO:-0500
TZNAME:CDT
DTSTART:20260308T080000
END:DAYLIGHT
BEGIN:STANDARD
TZOFFSETFROM:-0500
TZOFFSETTO:-0600
TZNAME:CST
DTSTART:20261101T070000
END:STANDARD
BEGIN:DAYLIGHT
TZOFFSETFROM:-0600
TZOFFSETTO:-0500
TZNAME:CDT
DTSTART:20270314T080000
END:DAYLIGHT
BEGIN:STANDARD
TZOFFSETFROM:-0500
TZOFFSETTO:-0600
TZNAME:CST
DTSTART:20271107T070000
END:STANDARD
END:VTIMEZONE
BEGIN:VEVENT
DTSTART;TZID=America/Chicago:20260502T100000
DTEND;TZID=America/Chicago:20260502T120000
DTSTAMP:20260422T142313
CREATED:20260422T155338Z
LAST-MODIFIED:20260422T155451Z
UID:15330-1777716000-1777723200@www.simpson.edu
SUMMARY:2026 Spring Commencement
DESCRIPTION:Saturday\, May 2\, 2026 at 10:00 a.m. \nSimpson College\, Cowles Fieldhouse\nIndianola Campus \n  \nMORE INFORMATION
URL:https://www.simpson.edu/event/commencement/
LOCATION:Cowles Gym (Fieldhouse)\, 701 N C St\, Indianola\, IA\, 50125\, United States
END:VEVENT
END:VCALENDAR